BEGIN:VCALENDAR
VERSION:2.0
PRODID:-//Pro-Multis - ECPv6.15.20//NONSGML v1.0//EN
CALSCALE:GREGORIAN
METHOD:PUBLISH
X-ORIGINAL-URL:https://pro-multis.de
X-WR-CALDESC:Veranstaltungen für Pro-Multis
REFRESH-INTERVAL;VALUE=DURATION:PT1H
X-Robots-Tag:noindex
X-PUBLISHED-TTL:PT1H
BEGIN:VTIMEZONE
TZID:Europe/Berlin
BEGIN:DAYLIGHT
TZOFFSETFROM:+0100
TZOFFSETTO:+0200
TZNAME:CEST
DTSTART:20250330T010000
END:DAYLIGHT
BEGIN:STANDARD
TZOFFSETFROM:+0200
TZOFFSETTO:+0100
TZNAME:CET
DTSTART:20251026T010000
END:STANDARD
BEGIN:DAYLIGHT
TZOFFSETFROM:+0100
TZOFFSETTO:+0200
TZNAME:CEST
DTSTART:20260329T010000
END:DAYLIGHT
BEGIN:STANDARD
TZOFFSETFROM:+0200
TZOFFSETTO:+0100
TZNAME:CET
DTSTART:20261025T010000
END:STANDARD
BEGIN:DAYLIGHT
TZOFFSETFROM:+0100
TZOFFSETTO:+0200
TZNAME:CEST
DTSTART:20270328T010000
END:DAYLIGHT
BEGIN:STANDARD
TZOFFSETFROM:+0200
TZOFFSETTO:+0100
TZNAME:CET
DTSTART:20271031T010000
END:STANDARD
END:VTIMEZONE
BEGIN:VEVENT
DTSTART;TZID=Europe/Berlin:20260505T080000
DTEND;TZID=Europe/Berlin:20260505T170000
DTSTAMP:20260420T142316
CREATED:20260107T230000Z
LAST-MODIFIED:20260107T230000Z
UID:12829-1777968000-1778000400@pro-multis.de
SUMMARY:DER FAHRENDE BAUERNHOF
DESCRIPTION:Familienangebot – Erleben Sie einem Esel\, einer Ziege\, einen Hund\, weißen Brieft auben und dem kleinsten Huhn der Welt (Serama) im Außengelände Ihres Kindergartens. Hier können die Kinder dann gruppenweise die Tiere besuchen. Der Esel wird gestriegelt und gefüttert. Danach dürfen die Kinder auch eine Runde durch das Außengelände reiten. Wie verhält sich eine Ziege\, wo kommt sie ursprünglich her und was frisst sie? Wie geht man mit einem Hund um\, was mag er und was nicht. Die weißen Brieftauben werden in die Hand genommen\, betrachtet\, gestreichelt und starten dann Richtung Heimat.\nIn Kooperation mit Tierische Erlebnisse (Christoph Klingenhäger).
URL:https://pro-multis.de/termin/der-fahrende-bauernhof-7/
CATEGORIES:Gemeinsames Angebot für Eltern und Kinder
ATTACH;FMTTYPE=image/jpeg:https://pro-multis.de/wp-content/uploads/2023/03/Gemeinsame-Angebote-fuer-Eltern-und-Kinder.jpg
END:VEVENT
BEGIN:VEVENT
DTSTART;TZID=Europe/Berlin:20260505T080000
DTEND;TZID=Europe/Berlin:20260505T170000
DTSTAMP:20260420T142316
CREATED:20260108T230000Z
LAST-MODIFIED:20260420T090842Z
UID:12867-1777968000-1778000400@pro-multis.de
SUMMARY:UMGANG MIT MEDIEN IM ERZIEHUNGSALLTAG
DESCRIPTION:Medien begegnen uns heutzutage in jeder Lebenslage. Wir nutzen sie um zu kommunizieren\, unser Wissen zu erweitern oder auch um einfach mal abzuschalten. Sie sind mittlerweile ein\nfester Bestandteil des familiären Alltags. Somit wird der Grundstein für den Medienumgang der Kinder in der Familie gelegt\, entsprechend sollte auch hier mit der Medienerziehung begonnen\nwerden. Mit dem Thema der Medienerziehung tauchen auch viele Fragen und Unsicherheiten auf\, die wir an einem Elternabend gemeinsam besprechen möchten. Sie erhalten einen Überblick\nüber das durchschnittliche Medienverhalten von Kindern unter sechs Jahren. Wir schauen uns an\, wie Kinder Medien wahrnehmen und wir werden darüber sprechen\, wie wir Kinder\ndurch Medien fördern können und in welchem Bereich sie Schutz benötigen.\nIn Kooperation mit dem Kath. Forum MG & HS.
URL:https://pro-multis.de/termin/umgang-mit-medien-im-erziehungsalltag-2/
CATEGORIES:Pädagogisch anregender Impuls
ATTACH;FMTTYPE=image/jpeg:https://pro-multis.de/wp-content/uploads/2023/03/Pedagogisch-Anregende-Impulse-1.jpg
END:VEVENT
BEGIN:VEVENT
DTSTART;TZID=Europe/Berlin:20260505T140000
DTEND;TZID=Europe/Berlin:20260505T155000
DTSTAMP:20260420T142316
CREATED:20260107T230000Z
LAST-MODIFIED:20260107T230000Z
UID:12850-1777989600-1777996200@pro-multis.de
SUMMARY:KLEINE ENTDECKER AUF GROSSER REISE
DESCRIPTION:Für Kinder 2-6 Jahren\nGemeinsam gehen wir auf Expedition! Wir beobachten\, hüpfen\, lauschen\, tasten\, schmecken und staunen – mit allen unseren Sinnen entdecken wir die Welt. Danach wird es musikalisch:\nWas wir erlebt haben\, verwandeln wir in Töne\, Bewegungen und Klanggeschichten. So wird aus jeder Entdeckung ein kleines Abenteuer der besonderen Art.\nIn Kooperation mit Monika Brinkmann. \ndienstags + mittwochs\, 05.05.\, 06.05.\, 12.05.\, 13.05.\, 19.05.\, 20.05.\, 27.05. und 28.05.26
URL:https://pro-multis.de/termin/kleine-entdecker-auf-grosser-reise/
CATEGORIES:Ernährung und Bewegung
ATTACH;FMTTYPE=image/jpeg:https://pro-multis.de/wp-content/uploads/2023/03/GesundheitErnaehrung-Bewegung-1.jpg
END:VEVENT
BEGIN:VEVENT
DTSTART;TZID=Europe/Berlin:20260506T143000
DTEND;TZID=Europe/Berlin:20260506T153000
DTSTAMP:20260420T142316
CREATED:20260118T230000Z
LAST-MODIFIED:20260118T230000Z
UID:12888-1778077800-1778081400@pro-multis.de
SUMMARY:HELDENREISE
DESCRIPTION:Für Kinder ab 4 Jahren – Angebot zur Stärkung von Kindern\nGemeinsam mit dem Elefantenkind ELA begeben sich die Kinder auf eine achtwöchige Reise hin\nzu mehr Achtsamkeit\, Selbstvertrauen und innerer Stärke. Die Kinder erfahren und erkennen in\nacht Einheiten mit erprobten Übungen\, dass sie wertvoll und richti g sind\, so wie sie sind.\nDie vier inhaltlichen Schwerpunkte des Kurses sind:\n• Stärkung des Selbstwertgefühls und der Selbstwirksamkeit\n• Kennenlernen eigener Gefühle und Bedürfnisse\n• Selbstbehauptung und Konfl iktlösungen\n• Stressregulati on\, Achtsamkeit und Entspannung\nIn Kooperation mit der Glücksschmiede. \nmittwochs\, 06.05.\, 13.05.\, 20.05.\, 27.05.\, 03.06.\, 10.06.\, 17.06. und 24.06.26\njeweils 14.30 – 15.30 Uhr
URL:https://pro-multis.de/termin/heldenreise-12/
CATEGORIES:Gesundheit
ATTACH;FMTTYPE=image/jpeg:https://pro-multis.de/wp-content/uploads/2025/05/GesundheitErnaehrung-Bewegung-1.jpg
END:VEVENT
BEGIN:VEVENT
DTSTART;TZID=Europe/Berlin:20260507T190000
DTEND;TZID=Europe/Berlin:20260507T211500
DTSTAMP:20260420T142316
CREATED:20260118T230000Z
LAST-MODIFIED:20260118T230000Z
UID:12904-1778180400-1778188500@pro-multis.de
SUMMARY:LIEBEVOLL UND KONSEQUENT GRENZEN SETZEN
DESCRIPTION:Sinnvolle Grenzen zu setzen und konsequent zu bleiben ohne in Machtkämpfe zu geraten\, ist\nund bleibt eine anspruchsvolle Aufgabe für Erwachsene. Grenzen geben Kindern Sicherheit\nund einen geschützten Rahmen\, in dem sie sich orientieren und entwickeln können. Doch wo\nsind Grenzen besonders wichtig und an welcher Stelle können Erwachsene die freie Entfaltung\ndes Kindes zulassen? Diese Frage kann jede Familie nur individuell beantworten. Dabei kann\nes hilfreich sein\, zu reflektieren\, warum mir persönlich bestimmte Verhaltensweisen besonders\nwichtig sind und an welchen Stellen ich mich durchsetze oder auch nicht. Hier wird zur\nReflexion eigener Glaubenssätze eingeladen und erörtert\, wo die individuellen Bedürfnisse von\nErwachsenen und Kindern beginnen und enden. Darüber hinaus werden förderliche Kommunikationstechniken aufgezeigt\, die ein „Nein“ nicht zum Drama oder Machtkampf werden lassen.\nIn Kooperation mit dem Kath. Forum MG & HS. \nTERMIN Donnerstag 07.05.26 19.00 – 21.15 Uhr\nORT KiTa St. Johann Baptist | Stiftsgasse 1.\, 52511 Geilenkirchen\nBitte online im Veranstaltungskalender\,\nper Mail an tfk.st.johann.baptist.lindern@pro-multis.de\noder telefonisch unter 02462-6808 anmelden.
URL:https://pro-multis.de/termin/liebevoll-und-konsequent-grenzen-setzen-4/
CATEGORIES:Pädagogisch anregender Impuls
ATTACH;FMTTYPE=image/jpeg:https://pro-multis.de/wp-content/uploads/2025/05/Pedagogisch-Anregende-Impulse-1-1.jpg
END:VEVENT
BEGIN:VEVENT
DTSTART;TZID=Europe/Berlin:20260508T140000
DTEND;TZID=Europe/Berlin:20260508T160000
DTSTAMP:20260420T142316
CREATED:20260107T230000Z
LAST-MODIFIED:20260420T091502Z
UID:12821-1778248800-1778256000@pro-multis.de
SUMMARY:EIN EICHHÖRNCHEN KOMMT SELTEN ALLEINE
DESCRIPTION:Familienangebot – Ein Eichhörnchen kommt selten alleine – eine Rallye durch die Natur mit digitaler Unterstützung. In kleinen Gruppen begeben sich Eltern und ihre Kinder auf eine abenteuerliche Reise. Mit Hilfe einer eigens entwickelten App erkunden sie gemeinsam mit quirligen Eichhörnchen und seinen Freunden die Wege der Natur. Dabei lösen sie knifflige Rätsel\, erleben lustige Momente und entdecken versteckte Schätze. Hin und wieder werden besondere Augenblicke bewusst mit dem Handy aufgenommen\, um sie festzuhalten. Während die Familien die Wege durchstreifen\, sammeln sie eine Vielzahl von Naturmaterialien. Und warum das Ganze? Weil die Kinder am Ende des Abenteuers ein wahrhaft kostbares Kunstwerk erschaffen werden. Doch mehr dazu wird vorerst nicht verraten – die Überraschung soll bleiben!\nIn Kooperation mit der Familienbildungsstätte Mönchengladbach. \nTreffpunkt ist Parkplatz Volksgarten\, Carl-Diem-Straße 2-4\, 41065 Mönchengladbach\nZur Teilnahme dieser Veranstaltung benötigen Sie ein Smartphone und eine App.
URL:https://pro-multis.de/termin/ein-eichhoernchen-kommt-selten-alleine-6/
CATEGORIES:Gemeinsames Angebot für Eltern und Kinder
ATTACH;FMTTYPE=image/jpeg:https://pro-multis.de/wp-content/uploads/2023/03/Gemeinsame-Angebote-fuer-Eltern-und-Kinder.jpg
END:VEVENT
BEGIN:VEVENT
DTSTART;TZID=Europe/Berlin:20260508T150000
DTEND;TZID=Europe/Berlin:20260508T170000
DTSTAMP:20260420T142316
CREATED:20260118T230000Z
LAST-MODIFIED:20260118T230000Z
UID:12905-1778252400-1778259600@pro-multis.de
SUMMARY:GESTALTEN MIT TON
DESCRIPTION:Familienangebot – für Kinder ab 4 Jahren\nLieben Sie es auch im Sommer abends auf dem Balkon\, der Terrasse oder im Garten zu sitzen\,\nbis spät in die Nacht? Traumhaft! Mit einem Windlicht aus Ton sorgen Sie dabei gleichzeitig\nfür eine ganz besondere Stimmung. An zwei Freitagen haben Sie als Eltern die Möglichkeit in\nunserem Familienzentrum ein solches Windlicht herzustellen. \nTERMINE freitags\, 08.05. und 22.05.26\, 15.00 – 17.00 Uhr\nORT KiTa & FZ St. Ursula | Marti n-Heyden-Straße 30.\, 52511 Geilenkirchen\nBitt e online im Veranstaltungskalender\, per Mail an tf k.st.ursula@pro-multi s.de\noder telefonisch unter 02451-1022 anmelden.
URL:https://pro-multis.de/termin/gestalten-mit-ton/
CATEGORIES:Kreatives Gestalten
ATTACH;FMTTYPE=image/jpeg:https://pro-multis.de/wp-content/uploads/2025/05/KreativesGestalten.jpg
END:VEVENT
BEGIN:VEVENT
DTSTART;TZID=Europe/Berlin:20260512T140000
DTEND;TZID=Europe/Berlin:20260512T150000
DTSTAMP:20260420T142316
CREATED:20260107T230000Z
LAST-MODIFIED:20260107T230000Z
UID:12834-1778594400-1778598000@pro-multis.de
SUMMARY:BUCHLESE-STUNDE
DESCRIPTION:Wir hören und erleben eine aufregende Kamishibaigeschichte.\nIn Kooperation mit der Familienbildungsstätte Mönchengladbach.
URL:https://pro-multis.de/termin/buchlese-stunde/
CATEGORIES:Gemeinsames Angebot für Eltern und Kinder
ATTACH;FMTTYPE=image/jpeg:https://pro-multis.de/wp-content/uploads/2023/03/Gemeinsame-Angebote-fuer-Eltern-und-Kinder.jpg
END:VEVENT
BEGIN:VEVENT
DTSTART;TZID=Europe/Berlin:20260520T190000
DTEND;TZID=Europe/Berlin:20260520T211500
DTSTAMP:20260420T142316
CREATED:20260118T230000Z
LAST-MODIFIED:20260420T091555Z
UID:12906-1779303600-1779311700@pro-multis.de
SUMMARY:VON DER TROTZPHASE BIS ZUR WACKELZAHNPUBERTÄT
DESCRIPTION:Gerade während der beiden ersten großen Entwicklungsschritte – der Trotzphase und der Wackelzahnpubertät\n– ist so vieles im Werden worüber wir uns freuen dürfen\, aber auch so vieles\,\nwas herausfordert\, was neu ist\, was Ängste hervorruft. Die Kinder durchlaufen in diesen Zeiten\nein Wechselbad der Gefühle. Sie befinden sich in einem Zwiespalt zwischen Trennungsangst\nund Abenteuerlust. Auf der einen Seite möchten sie die Welt entdecken\, andererseits brauchen\nsie gleichzeitig die Nähe der Eltern. Die Kinder sind von diesem Zwiespalt hin- und hergerissen\,\nerleben und fühlen die inneren Spannungen sehr intensiv\, was sich dann inheftigen Gefühlsausbrüchen\nentlädt. Unsere Aufgabe ist es\, diesen Weg verständnisvoll\, liebevoll und achtsam zu\nbegleiten und gemeinsam mit den Kindern durch diese Zeit zu gehen. Bei dieser Veranstaltung\nerhalten Sie Anregungen\, wie Sie mit diesen Phasen umgehen können und finden Lösungsansätze\nfür schwierige Situationen.\nIn Kooperation mit dem Kath. Forum MG & HS. \nTERMIN Mitt woch\, 20.05.26 19.00 – 21.15 Uhr\nORT KiTa St. Anna Tripsrath | Annastraße 13.\, 52511 Geilenkirchen\nBitte online im Veranstaltungskalender\, per Mail an tfk.st.anna.tripsrath@pro-multi s.de\noder telefonisch unter 02451-7718 anmelden.
URL:https://pro-multis.de/termin/von-der-trotzphase-bis-zur-wackelzahnpubertaet-2/
CATEGORIES:Pädagogisch anregender Impuls
ATTACH;FMTTYPE=image/jpeg:https://pro-multis.de/wp-content/uploads/2025/05/Pedagogisch-Anregende-Impulse-1-1.jpg
END:VEVENT
BEGIN:VEVENT
DTSTART;TZID=Europe/Berlin:20260523T100000
DTEND;TZID=Europe/Berlin:20260523T130000
DTSTAMP:20260420T142316
CREATED:20260107T230000Z
LAST-MODIFIED:20260420T091714Z
UID:12818-1779530400-1779541200@pro-multis.de
SUMMARY:MIT OSKAR DURCH DEN WALD
DESCRIPTION:Familienangebot – Esel Oskar begleitet uns durch den Wald.\nDer Wald mit seinen Pfl anzen und Tieren möchte entdeckt werden und wir haben die Möglichkeit\, in diesem Rahmen einiges zu erleben\, unsere Sinne zu schärfen\, Neues kennen zu lernen\nund kreativ zu werden (Gestalten mit Ton). Bitt e denkt an geeignete Kleidung\, Getränke und einen kleinen Snack – Entdecken macht hungrig.\nIn Kooperation mit Tierische Erlebnisse (Christoph Klingenhäger).
URL:https://pro-multis.de/termin/mit-oskar-durch-den-wald-11/
CATEGORIES:Gemeinsames Angebot für Eltern und Kinder
ATTACH;FMTTYPE=image/jpeg:https://pro-multis.de/wp-content/uploads/2023/03/Gemeinsame-Angebote-fuer-Eltern-und-Kinder.jpg
END:VEVENT
BEGIN:VEVENT
DTSTART;TZID=Europe/Berlin:20260523T100000
DTEND;TZID=Europe/Berlin:20260523T130000
DTSTAMP:20260420T142316
CREATED:20260107T230000Z
LAST-MODIFIED:20260107T230000Z
UID:12851-1779530400-1779541200@pro-multis.de
SUMMARY:DIE KOCHTOPFBANDE
DESCRIPTION:Familienangebot\nGemeinsam bilden Kinder und ein Elternteil (oder eine andere Bezugsperson) die Kochtopfbande. Unter Anleitung von Ernährungsberaterin und Kita-Köchin Susanne Kallen erleben sie\nwertvolle gemeinsame Zeit und bereiten aus regional und saisonal verfügbaren Lebensmitt eln ein kindgerechtes gesundes Gericht zu. Die Kinder werden akti v ins Kochen eingebunden und erleben so Selbstwirksamkeit in einem wichtigen Lebensbereich. Nebenbei erfahren alle\, wie gesunde Ernährung einfach gelingt und Spaß macht. Selbstverständlich nimmt die Kochtopfbande dann auch gemeinsam am Tisch Platz und lässt es sich schmecken. Vorbereiten\, Tisch decken und Aufräumen gehören für Erziehungsberechtigte und Kinder zum Erlebnis dazu\, inklusive Anregungen\, welche Aufgaben Kinder ab welchem Alter im Haushalt übernehmen können. \nIn Kooperation mit dem Kath. Forum MG & HS.
URL:https://pro-multis.de/termin/die-kochtopfbande-3/
CATEGORIES:Ernährung und Bewegung,Gemeinsames Angebot für Eltern und Kinder
ATTACH;FMTTYPE=image/jpeg:https://pro-multis.de/wp-content/uploads/2023/03/GesundheitErnaehrung-Bewegung-1.jpg
END:VEVENT
BEGIN:VEVENT
DTSTART;TZID=Europe/Berlin:20260527T140000
DTEND;TZID=Europe/Berlin:20260527T161500
DTSTAMP:20260420T142316
CREATED:20260107T230000Z
LAST-MODIFIED:20260107T230000Z
UID:12835-1779890400-1779898500@pro-multis.de
SUMMARY:MIT WORTEN WACHSEN
DESCRIPTION:Mit Worten wachsen – Gemeinsam die Sprachfähigkeit des Kindes stärken\nIn diesem Kurs geht es um die Entwicklung der kindlichen Sprache. Wir besprechen\, wie Kinder mit Worten wachsen und Sie Ihr Kind in seiner Kommunikation stärken können. Themen sind:\n• Wie lernen Kinder sprechen?\n• Wie wirkt sich der Schnuller auf die Sprachentwicklung aus?\n• Wie beeinflusst mehrsprachiges Aufwachsen die Sprachentwicklung?\nDer Kurs bietet prakti sche Anregungen\, um Ihr Kind im Alltag spielerisch zu fördern und zeigt\, welches Verhalten von Erwachsenen den Spracherwerb positiv unterstützt.\nIn Kooperation mit der Familienbildungsstätte Mönchengladbach.
URL:https://pro-multis.de/termin/mit-worten-wachsen/
CATEGORIES:Pädagogisch anregender Impuls
ATTACH;FMTTYPE=image/jpeg:https://pro-multis.de/wp-content/uploads/2023/03/Pedagogisch-Anregende-Impulse-1.jpg
END:VEVENT
BEGIN:VEVENT
DTSTART;TZID=Europe/Berlin:20260527T143000
DTEND;TZID=Europe/Berlin:20260527T164500
DTSTAMP:20260420T142316
CREATED:20260107T230000Z
LAST-MODIFIED:20260420T091751Z
UID:12840-1779892200-1779900300@pro-multis.de
SUMMARY:GRENZEN GEBEN SICHERHEIT
DESCRIPTION:Die tägliche Diskussion um das Trödeln beim Anziehen\, die Unordnung im Kinderzimmer und das Quengeln ums Fernsehen zermürbt. Wir möchten\, dass unsere Kinder Wurzeln und Flügel bekommen\, aber der Weg dahin ist oft schwer und steinig. Warum ist das Einhalten von Grenzen so schwierig? Grenzen geben den Eltern und den Kindern Sicherheit\, aber warum fordern die Kinder uns immer wieder heraus? Im Austausch können Eltern von ihren Alltagsproblemen erzählen. Wir besprechen\, wie Eltern konsequenter und trotzdem liebevoll mit ihren Kindern den schwierigen Spagat schaffen.\nIn Kooperation mit der Familienbildungsstätte Mönchengladbach.
URL:https://pro-multis.de/termin/grenzen-geben-sicherheit-4/
CATEGORIES:Pädagogisch anregender Impuls
ATTACH;FMTTYPE=image/jpeg:https://pro-multis.de/wp-content/uploads/2023/03/Pedagogisch-Anregende-Impulse-1.jpg
END:VEVENT
BEGIN:VEVENT
DTSTART;TZID=Europe/Berlin:20260530T100000
DTEND;TZID=Europe/Berlin:20260530T121500
DTSTAMP:20260420T142316
CREATED:20260108T230000Z
LAST-MODIFIED:20260420T091816Z
UID:12857-1780135200-1780143300@pro-multis.de
SUMMARY:TROMMELWORKSHOP
DESCRIPTION:Familienangebot – für Eltern mit Kindern von 3 – 6 Jahren\nMit Rhythmus und Spaß dabei. Welch wichtige Rolle Rhythmen in unserem Leben spielen\, die ersten einfachen Rhythmusgrundlagen sowie Aufbau\, Klang und Einsatz von verschiedenen Schlaginstrumenten (Instrumentenkunde) sind Bestandteil dieser Veranstaltung. Das bewusste Auseinandersetzen mit Rhythmus in Form von Musik unterstützt auch die sprachliche Entwicklung des Kindes. Es sind keine musikalischen Vorkenntnisse erforderlich. Die Instrumente werden von Musik Mentor Daniel Juwig zur Verfügung gestellt. Es dürfen gerne Trommeln von zu Hause mitgebracht werden. \nIn Kooperation dem Kath. Forum MG & HS.
URL:https://pro-multis.de/termin/trommelworkshop-4/
CATEGORIES:Gemeinsames Angebot für Eltern und Kinder
ATTACH;FMTTYPE=image/jpeg:https://pro-multis.de/wp-content/uploads/2023/03/Gemeinsame-Angebote-fuer-Eltern-und-Kinder.jpg
END:VEVENT
END:VCALENDAR